BEGIN:VCALENDAR
VERSION:2.0
PRODID:-//hacksw/handcal//NONSGML v1.0//EN
BEGIN:VEVENT
DTSTAMP:20260318T163000Z
DTSTART:20260318T163000Z
DTEND:20260318T163000Z
LOCATION:CDU-Kreisgeschäftsstelle Münster, Hammer Straße 10, Münster, 48153, Deutschland
SUMMARY:EAK BV Münsterland: Polizeiseelsorge
END:VEVENT
END:VCALENDAR
